BEGIN:VCALENDAR
VERSION:2.0
PRODID:-//Dogwood Prairie UMC - ECPv6.15.18//NONSGML v1.0//EN
CALSCALE:GREGORIAN
METHOD:PUBLISH
X-ORIGINAL-URL:https://www.dogwoodprairie.com
X-WR-CALDESC:Events for Dogwood Prairie UMC
REFRESH-INTERVAL;VALUE=DURATION:PT1H
X-Robots-Tag:noindex
X-PUBLISHED-TTL:PT1H
BEGIN:VTIMEZONE
TZID:America/Chicago
BEGIN:DAYLIGHT
TZOFFSETFROM:-0600
TZOFFSETTO:-0500
TZNAME:CDT
DTSTART:20250309T080000
END:DAYLIGHT
BEGIN:STANDARD
TZOFFSETFROM:-0500
TZOFFSETTO:-0600
TZNAME:CST
DTSTART:20251102T070000
END:STANDARD
BEGIN:DAYLIGHT
TZOFFSETFROM:-0600
TZOFFSETTO:-0500
TZNAME:CDT
DTSTART:20260308T080000
END:DAYLIGHT
BEGIN:STANDARD
TZOFFSETFROM:-0500
TZOFFSETTO:-0600
TZNAME:CST
DTSTART:20261101T070000
END:STANDARD
BEGIN:DAYLIGHT
TZOFFSETFROM:-0600
TZOFFSETTO:-0500
TZNAME:CDT
DTSTART:20270314T080000
END:DAYLIGHT
BEGIN:STANDARD
TZOFFSETFROM:-0500
TZOFFSETTO:-0600
TZNAME:CST
DTSTART:20271107T070000
END:STANDARD
END:VTIMEZONE
BEGIN:VEVENT
DTSTART;TZID=America/Chicago:20260426T090000
DTEND;TZID=America/Chicago:20260426T100000
DTSTAMP:20260423T101101
CREATED:20260401T143336Z
LAST-MODIFIED:20260401T143336Z
UID:15255-1777194000-1777197600@www.dogwoodprairie.com
SUMMARY:Sunday School @9:00AM
DESCRIPTION:
URL:https://www.dogwoodprairie.com/event/sunday-school-900am-120/
LOCATION:Dogwood Prairie UMC\, 3031 E 1450th Ave\, Oblong\, IL\, 62449\, United States
CATEGORIES:Community,ministry
END:VEVENT
BEGIN:VEVENT
DTSTART;TZID=America/Chicago:20260426T100000
DTEND;TZID=America/Chicago:20260426T113000
DTSTAMP:20260423T101101
CREATED:20260401T143838Z
LAST-MODIFIED:20260401T143838Z
UID:15263-1777197600-1777203000@www.dogwoodprairie.com
SUMMARY:Sunday Worship @10:15AM
DESCRIPTION:
URL:https://www.dogwoodprairie.com/event/sunday-worship-1015am-17/
LOCATION:Dogwood Prairie UMC\, 3031 E 1450th Ave\, Oblong\, IL\, 62449\, United States
CATEGORIES:Community,ministry
END:VEVENT
BEGIN:VEVENT
DTSTART;TZID=America/Chicago:20260426T180000
DTEND;TZID=America/Chicago:20260426T203000
DTSTAMP:20260423T101101
CREATED:20260401T144339Z
LAST-MODIFIED:20260401T144339Z
UID:15271-1777226400-1777235400@www.dogwoodprairie.com
SUMMARY:SingSpiration at Hardinville Christian Church @6:00PM
DESCRIPTION:
URL:https://www.dogwoodprairie.com/event/singspiration-at-hardinville-christian-church-600pm-3/
LOCATION:Hardinville Christian Church\, 4423 N 575th St\, Robinson\, IL\, 62454\, United States
CATEGORIES:Community
END:VEVENT
END:VCALENDAR