BEGIN:VCALENDAR
VERSION:2.0
PRODID:-//Dogwood Prairie UMC - ECPv6.15.18//NONSGML v1.0//EN
CALSCALE:GREGORIAN
METHOD:PUBLISH
X-ORIGINAL-URL:https://www.dogwoodprairie.com
X-WR-CALDESC:Events for Dogwood Prairie UMC
REFRESH-INTERVAL;VALUE=DURATION:PT1H
X-Robots-Tag:noindex
X-PUBLISHED-TTL:PT1H
BEGIN:VTIMEZONE
TZID:America/Chicago
BEGIN:DAYLIGHT
TZOFFSETFROM:-0600
TZOFFSETTO:-0500
TZNAME:CDT
DTSTART:20250309T080000
END:DAYLIGHT
BEGIN:STANDARD
TZOFFSETFROM:-0500
TZOFFSETTO:-0600
TZNAME:CST
DTSTART:20251102T070000
END:STANDARD
BEGIN:DAYLIGHT
TZOFFSETFROM:-0600
TZOFFSETTO:-0500
TZNAME:CDT
DTSTART:20260308T080000
END:DAYLIGHT
BEGIN:STANDARD
TZOFFSETFROM:-0500
TZOFFSETTO:-0600
TZNAME:CST
DTSTART:20261101T070000
END:STANDARD
BEGIN:DAYLIGHT
TZOFFSETFROM:-0600
TZOFFSETTO:-0500
TZNAME:CDT
DTSTART:20270314T080000
END:DAYLIGHT
BEGIN:STANDARD
TZOFFSETFROM:-0500
TZOFFSETTO:-0600
TZNAME:CST
DTSTART:20271107T070000
END:STANDARD
END:VTIMEZONE
BEGIN:VEVENT
DTSTART;TZID=America/Chicago:20260421T150000
DTEND;TZID=America/Chicago:20260421T180000
DTSTAMP:20260423T100843
CREATED:20260401T145632Z
LAST-MODIFIED:20260401T145632Z
UID:15291-1776783600-1776794400@www.dogwoodprairie.com
SUMMARY:Crawford County Cares Free Meal at the Oblong Community Building @3:00PM-6:00PM
DESCRIPTION:
URL:https://www.dogwoodprairie.com/event/crawford-county-cares-free-meal-at-the-oblong-community-building-300pm-600pm-2/
LOCATION:Oblong Municipal Building\, 202 South Range Street\, Oblong\, IL\, 62449\, United States
CATEGORIES:Community
END:VEVENT
END:VCALENDAR