BEGIN:VCALENDAR
VERSION:2.0
PRODID:-//Dogwood Prairie UMC - ECPv6.15.18//NONSGML v1.0//EN
CALSCALE:GREGORIAN
METHOD:PUBLISH
X-ORIGINAL-URL:https://www.dogwoodprairie.com
X-WR-CALDESC:Events for Dogwood Prairie UMC
REFRESH-INTERVAL;VALUE=DURATION:PT1H
X-Robots-Tag:noindex
X-PUBLISHED-TTL:PT1H
BEGIN:VTIMEZONE
TZID:America/Chicago
BEGIN:DAYLIGHT
TZOFFSETFROM:-0600
TZOFFSETTO:-0500
TZNAME:CDT
DTSTART:20250309T080000
END:DAYLIGHT
BEGIN:STANDARD
TZOFFSETFROM:-0500
TZOFFSETTO:-0600
TZNAME:CST
DTSTART:20251102T070000
END:STANDARD
BEGIN:DAYLIGHT
TZOFFSETFROM:-0600
TZOFFSETTO:-0500
TZNAME:CDT
DTSTART:20260308T080000
END:DAYLIGHT
BEGIN:STANDARD
TZOFFSETFROM:-0500
TZOFFSETTO:-0600
TZNAME:CST
DTSTART:20261101T070000
END:STANDARD
BEGIN:DAYLIGHT
TZOFFSETFROM:-0600
TZOFFSETTO:-0500
TZNAME:CDT
DTSTART:20270314T080000
END:DAYLIGHT
BEGIN:STANDARD
TZOFFSETFROM:-0500
TZOFFSETTO:-0600
TZNAME:CST
DTSTART:20271107T070000
END:STANDARD
END:VTIMEZONE
BEGIN:VEVENT
DTSTART;TZID=America/Chicago:20260420T083000
DTEND;TZID=America/Chicago:20260420T100000
DTSTAMP:20260423T100745
CREATED:20260401T145326Z
LAST-MODIFIED:20260401T145326Z
UID:15287-1776673800-1776679200@www.dogwoodprairie.com
SUMMARY:Food Pantry Distribution at Central UMC in Oblong @8:30AM-10:00AM
DESCRIPTION:
URL:https://www.dogwoodprairie.com/event/food-pantry-distribution-at-central-umc-in-oblong-830am-1000am-2/
LOCATION:Central United Methodist Church\, 112 N Range St\, Oblong\, IL\, 62449\, United States
CATEGORIES:Community
END:VEVENT
BEGIN:VEVENT
DTSTART;TZID=America/Chicago:20260420T183000
DTEND;TZID=America/Chicago:20260420T193000
DTSTAMP:20260423T100745
CREATED:20260401T144751Z
LAST-MODIFIED:20260401T144751Z
UID:15277-1776709800-1776713400@www.dogwoodprairie.com
SUMMARY:Bible Study at Seed Chapel UMC @6:30PM
DESCRIPTION:
URL:https://www.dogwoodprairie.com/event/bible-study-at-seed-chapel-umc-630pm-80/
LOCATION:Seed Chapel
CATEGORIES:ministry
END:VEVENT
END:VCALENDAR