BEGIN:VCALENDAR
VERSION:2.0
PRODID:-//Dogwood Prairie UMC - ECPv6.15.18//NONSGML v1.0//EN
CALSCALE:GREGORIAN
METHOD:PUBLISH
X-WR-CALNAME:Dogwood Prairie UMC
X-ORIGINAL-URL:https://www.dogwoodprairie.com
X-WR-CALDESC:Events for Dogwood Prairie UMC
REFRESH-INTERVAL;VALUE=DURATION:PT1H
X-Robots-Tag:noindex
X-PUBLISHED-TTL:PT1H
BEGIN:VTIMEZONE
TZID:America/Chicago
BEGIN:DAYLIGHT
TZOFFSETFROM:-0600
TZOFFSETTO:-0500
TZNAME:CDT
DTSTART:20250309T080000
END:DAYLIGHT
BEGIN:STANDARD
TZOFFSETFROM:-0500
TZOFFSETTO:-0600
TZNAME:CST
DTSTART:20251102T070000
END:STANDARD
BEGIN:DAYLIGHT
TZOFFSETFROM:-0600
TZOFFSETTO:-0500
TZNAME:CDT
DTSTART:20260308T080000
END:DAYLIGHT
BEGIN:STANDARD
TZOFFSETFROM:-0500
TZOFFSETTO:-0600
TZNAME:CST
DTSTART:20261101T070000
END:STANDARD
BEGIN:DAYLIGHT
TZOFFSETFROM:-0600
TZOFFSETTO:-0500
TZNAME:CDT
DTSTART:20270314T080000
END:DAYLIGHT
BEGIN:STANDARD
TZOFFSETFROM:-0500
TZOFFSETTO:-0600
TZNAME:CST
DTSTART:20271107T070000
END:STANDARD
END:VTIMEZONE
BEGIN:VEVENT
DTSTART;TZID=America/Chicago:20260405T070000
DTEND;TZID=America/Chicago:20260405T080000
DTSTAMP:20260423T101430
CREATED:20260401T142823Z
LAST-MODIFIED:20260401T142823Z
UID:15245-1775372400-1775376000@www.dogwoodprairie.com
SUMMARY:SonRise Service @7:00AM
DESCRIPTION:
URL:https://www.dogwoodprairie.com/event/sonrise-service-700am-4/
LOCATION:Dogwood Prairie UMC\, 3031 E 1450th Ave\, Oblong\, IL\, 62449\, United States
CATEGORIES:Community,ministry
END:VEVENT
BEGIN:VEVENT
DTSTART;TZID=America/Chicago:20260405T070000
DTEND;TZID=America/Chicago:20260405T110000
DTSTAMP:20260423T101430
CREATED:20260227T235449Z
LAST-MODIFIED:20260327T160044Z
UID:15132-1775372400-1775386800@www.dogwoodprairie.com
SUMMARY:Easter Sunday: "He is Risen! Risen indeed!"
DESCRIPTION:
URL:https://www.dogwoodprairie.com/event/easter-sunday-he-is-risen-risen-indeed/
LOCATION:IL
END:VEVENT
BEGIN:VEVENT
DTSTART;TZID=America/Chicago:20260405T080000
DTEND;TZID=America/Chicago:20260405T090000
DTSTAMP:20260423T101430
CREATED:20260401T142926Z
LAST-MODIFIED:20260401T142926Z
UID:15247-1775376000-1775379600@www.dogwoodprairie.com
SUMMARY:Breakfast at Dogwood Prairie UMC @8:00AM
DESCRIPTION:
URL:https://www.dogwoodprairie.com/event/breakfast-at-dogwood-prairie-umc-800am/
LOCATION:Dogwood Prairie UMC\, 3031 E 1450th Ave\, Oblong\, IL\, 62449\, United States
CATEGORIES:Community
END:VEVENT
BEGIN:VEVENT
DTSTART;TZID=America/Chicago:20260405T090000
DTEND;TZID=America/Chicago:20260405T100000
DTSTAMP:20260423T101430
CREATED:20260401T143036Z
LAST-MODIFIED:20260401T143036Z
UID:15249-1775379600-1775383200@www.dogwoodprairie.com
SUMMARY:Sunday School @9:00AM
DESCRIPTION:
URL:https://www.dogwoodprairie.com/event/sunday-school-900am-117/
LOCATION:Dogwood Prairie UMC\, 3031 E 1450th Ave\, Oblong\, IL\, 62449\, United States
CATEGORIES:Community,ministry
END:VEVENT
BEGIN:VEVENT
DTSTART;TZID=America/Chicago:20260405T100000
DTEND;TZID=America/Chicago:20260405T113000
DTSTAMP:20260423T101430
CREATED:20260401T143543Z
LAST-MODIFIED:20260401T143543Z
UID:15257-1775383200-1775388600@www.dogwoodprairie.com
SUMMARY:Sunday Worship @10:15AM
DESCRIPTION:
URL:https://www.dogwoodprairie.com/event/sunday-worship-1015am-14/
LOCATION:Dogwood Prairie UMC\, 3031 E 1450th Ave\, Oblong\, IL\, 62449\, United States
CATEGORIES:Community,ministry
END:VEVENT
END:VCALENDAR